BEGIN:VCALENDAR
VERSION:2.0
PRODID:-//Ready2Play - ECPv6.15.11//NONSGML v1.0//EN
CALSCALE:GREGORIAN
METHOD:PUBLISH
X-ORIGINAL-URL:https://r2p.nl
X-WR-CALDESC:Evenementen voor Ready2Play
REFRESH-INTERVAL;VALUE=DURATION:PT1H
X-Robots-Tag:noindex
X-PUBLISHED-TTL:PT1H
BEGIN:VTIMEZONE
TZID:Europe/Amsterdam
BEGIN:DAYLIGHT
TZOFFSETFROM:+0100
TZOFFSETTO:+0200
TZNAME:CEST
DTSTART:20190331T010000
END:DAYLIGHT
BEGIN:STANDARD
TZOFFSETFROM:+0200
TZOFFSETTO:+0100
TZNAME:CET
DTSTART:20191027T010000
END:STANDARD
BEGIN:DAYLIGHT
TZOFFSETFROM:+0100
TZOFFSETTO:+0200
TZNAME:CEST
DTSTART:20200329T010000
END:DAYLIGHT
BEGIN:STANDARD
TZOFFSETFROM:+0200
TZOFFSETTO:+0100
TZNAME:CET
DTSTART:20201025T010000
END:STANDARD
BEGIN:DAYLIGHT
TZOFFSETFROM:+0100
TZOFFSETTO:+0200
TZNAME:CEST
DTSTART:20210328T010000
END:DAYLIGHT
BEGIN:STANDARD
TZOFFSETFROM:+0200
TZOFFSETTO:+0100
TZNAME:CET
DTSTART:20211031T010000
END:STANDARD
BEGIN:DAYLIGHT
TZOFFSETFROM:+0100
TZOFFSETTO:+0200
TZNAME:CEST
DTSTART:20220327T010000
END:DAYLIGHT
BEGIN:STANDARD
TZOFFSETFROM:+0200
TZOFFSETTO:+0100
TZNAME:CET
DTSTART:20221030T010000
END:STANDARD
END:VTIMEZONE
BEGIN:VEVENT
DTSTART;TZID=Europe/Amsterdam:20210612T210000
DTEND;TZID=Europe/Amsterdam:20210612T233000
DTSTAMP:20260425T172101
CREATED:20210523T134356Z
LAST-MODIFIED:20210605T110416Z
UID:6209-1623531600-1623540600@r2p.nl
SUMMARY:PAARDTV x READY TO PLAY ONLINE BANDS & Songwriters Part 1
DESCRIPTION:12 JUNI PAARDTV \n\n\n\n\n\n\n\n\n\n\nPAARDTV X READY TO PLAY \n\nDAG 1 [LIVESTREAM]\n\nPAARD TV presenteert aanstormend talent in samenwerking met Ready To Play. \nOp zaterdag 12 juni part 1 en maandag 14 juni part 2 worden de opnames online uitgezonden.Zaterdag 12 juni wordt deel 1 uitgezonden. \nReserveer jouw gratis link voor de live-stream. Via een gratis ticket:https://www.paard.nl/event/ready-to-play-dag-1/ \n\nTickets: gratis (+ vrijwillige donatie als je het Paard wilt steunen) via onderstaande link: \n\nTICKETS\n\n\n\nPRORGRAMMA Zat 12-6 Part 1Uitzending 1e stream met 6 bands 21:00 – 23:30Klik hier voor dag 2 op zondagavond 13 juni \n– Minouk (songwriter)Minouk is een jonge songwriter. Zij schrijft haar eigen muziek en vertelt daar over tijdens de uitzending. \n– Inside_5Inside_5 is ontstaan tijdens het muziekplan van het Segbroek College. Check de bijzondere meerstemmigheid van deze vocalisten. \n– Norah (Songwriter)Norah is een singer-songwriter en schrijft popliedjes. Haar muziek is geïnspireerd op Colbie Calliat\, Catie turner\, Taylor Swift. \n– Haylid + special guest Julian de KortHaylid is een nieuwe band met blues-rock getinte nummers in de stijl van Beth Hart. De band neemt ook nog de zanger/songwriter Julian de Kort mee als special guest. \n– M4tchM4tch bestaat uit 4 jonge super enthousiaste meiden.Zij hebben elkaar gevonden bij Ready To Play en zijn niet te stoppen. \n– ReservoirReservoir staat garant voor een dosis stevige onvervalste rock. \nVoor meer info kun je naar de website en check de events op:www.facebook.com/Readytoplaymusic/eventsr2p.nl \n\n\n\n\n\n\n\nReservoir\n\n\n\n\n\nMinouk\n\n\n\n\n\n\n\nNorah\n\n\n\n\n\nInside 5\n\n\n\n\n\n\n\n\n\n\n\n\n\n\n\n\n\n\n\nHaylid\n\n\n\n\n\nSpecial guest Julian\n\n\n\n\n\n\n\n\n\n\n\nM4tch\n\n\n\n\n\n\n\n\n\n\n\n\n\n\n\nhttps://goo.gl/maps/HGkQsRzt1QaJomqs6
URL:https://r2p.nl/event/r2p-musicon-10-oktober-2020-2/
LOCATION:MUSICON
ATTACH;FMTTYPE=image/jpeg:https://r2p.nl/online/wp-content/uploads/2021/05/Norah-1.jpg
END:VEVENT
BEGIN:VEVENT
DTSTART;TZID=Europe/Amsterdam:20201128T190000
DTEND;TZID=Europe/Amsterdam:20201128T230000
DTSTAMP:20260425T172101
CREATED:20200519T092654Z
LAST-MODIFIED:20200620T111030Z
UID:4465-1606590000-1606604400@r2p.nl
SUMMARY:R2P PAARDCAFE
DESCRIPTION:READY TO PLAY  \n\n\n\nLIVE \n\n\n\n\n\nR2P loves Paardcafé\nAANMELDEN: media@r2p.nl \n19.00 uur  \n20.00 uur  \n21.00 uur  \n22.00 uur  \n23.00 uur  \nLater meer \n \n\n\n\n\n\n\n	\n	\n\n	\n		MUSICON
URL:https://r2p.nl/event/r2p-paardcafe-28-november-2020/
LOCATION:MUSICON
ATTACH;FMTTYPE=image/jpeg:https://r2p.nl/online/wp-content/uploads/2020/04/IMG_5209-scaled.jpeg
END:VEVENT
BEGIN:VEVENT
DTSTART;TZID=Europe/Amsterdam:20201107T190000
DTEND;TZID=Europe/Amsterdam:20201107T230000
DTSTAMP:20260425T172101
CREATED:20200519T114816Z
LAST-MODIFIED:20210623T203807Z
UID:4479-1604775600-1604790000@r2p.nl
SUMMARY:R2P PAARDCAFE
DESCRIPTION:READY TO PLAY  \n\n\n\nLIVE \n\n\n\n\n\n\nR2P loves Paardcafé\n\n\n\nAANMELDEN: media@r2p.nl \n\n\n\n19.00 uur  \n\n\n\n20.00 uur  \n\n\n\n21.00 uur  \n\n\n\n22.00 uur  \n\n\n\n23.00 uur  \n\n\n\nLater meer
URL:https://r2p.nl/event/r2p-paardcafe-28-november-2020-2/
LOCATION:MUSICON
ATTACH;FMTTYPE=image/jpeg:https://r2p.nl/online/wp-content/uploads/2020/05/IMG_6319-scaled.jpeg
END:VEVENT
BEGIN:VEVENT
DTSTART;TZID=Europe/Amsterdam:20201023T190000
DTEND;TZID=Europe/Amsterdam:20201023T230000
DTSTAMP:20260425T172101
CREATED:20200519T092437Z
LAST-MODIFIED:20200722T133523Z
UID:4461-1603479600-1603494000@r2p.nl
SUMMARY:R2P PAARDCAFE
DESCRIPTION:READY TO PLAY  \n\n\n\nLIVE \n\n\n\n\n\nR2P loves Paardcafe\nAANMELDEN: media@r2p.nl \n19.00 uur  \n20.00 uur Lifeline \n21.00 uur  \n22.00 uur  \n23.00 uur  \nLater meer \n 
URL:https://r2p.nl/event/r2p-paardcafe-23-oktober-2020/
LOCATION:MUSICON
ATTACH;FMTTYPE=image/jpeg:https://r2p.nl/online/wp-content/uploads/2020/05/IMG_7514-scaled.jpeg
END:VEVENT
BEGIN:VEVENT
DTSTART;TZID=Europe/Amsterdam:20201010T190000
DTEND;TZID=Europe/Amsterdam:20201010T220000
DTSTAMP:20260425T172101
CREATED:20200723T155606Z
LAST-MODIFIED:20201008T171955Z
UID:5133-1602356400-1602367200@r2p.nl
SUMMARY:R2P in Musicon
DESCRIPTION:READY TO PLAY  \n\n\n\nLIVE IN MUSICON \n\n\n\n\n\nR2P loves Musicon\nSIXPACK-specialTickets: 3\,75 euro entree (4\,65 incl servicekosten)  via onderstaande link:\nTICKETS\nDe verkoop van de tickets is begonnen. Maximaal 24 personen per deel. Vol is vol.\n\nSIXPACK-special second edition10 oktober MUSICON\nProgramma:19:00 – 19:20: Veronica19:35 – 19:55: Leopalooza20:10 – 20:30: Thornz20:45 – 21.05: WAS21:20 – 21:40: Papercut\nhttps://shop.simpleticket.eu/?eventid=0wEy0Ewa\n\n \n#livemuziek\n\nGOOGLE CALENDAR\nEXPORTEREN NAAR ICAL\n\n\n 
URL:https://r2p.nl/event/r2p-musicon-10-oktober-2020/
LOCATION:MUSICON
ATTACH;FMTTYPE=image/jpeg:https://r2p.nl/online/wp-content/uploads/2020/05/PHOTO-2020-02-16-09-46-08-4.jpg
END:VEVENT
BEGIN:VEVENT
DTSTART;TZID=Europe/Amsterdam:20200926T190000
DTEND;TZID=Europe/Amsterdam:20200926T230000
DTSTAMP:20260425T172101
CREATED:20200722T132755Z
LAST-MODIFIED:20200917T232957Z
UID:4877-1601146800-1601161200@r2p.nl
SUMMARY:R2P PAARDCAFE
DESCRIPTION:READY TO PLAY  \n\n\n\nLIVE \n\n\n\n\n\nR2P loves Paardcafe\nTickets bestel je hier voor part 1of part 2:Tickets \n19:00 Start programmaPart 119.00-19.20 Super Nova19.35-19.55 BIS20.10-20.30 WAS20:45 Curfew21:00 Publiek part 1 uit + nieuw publiek naar binnenPart 221.15-21.35  June Lisa Mons21.45-22.05 Papercut22.20-22.45 Reservoir23:00 Curfew part 2 \n  \n\n\n\n\n\n\n\n	\n	\n\n	\n		MUSICON
URL:https://r2p.nl/event/r2p-paardcafe-26-september-2020/
LOCATION:MUSICON
ATTACH;FMTTYPE=image/jpeg:https://r2p.nl/online/wp-content/uploads/2020/05/IMG_5267-scaled.jpg
END:VEVENT
BEGIN:VEVENT
DTSTART;TZID=Europe/Amsterdam:20200906T150000
DTEND;TZID=Europe/Amsterdam:20200906T200000
DTSTAMP:20260425T172101
CREATED:20200509T182424Z
LAST-MODIFIED:20200829T130522Z
UID:3553-1599404400-1599422400@r2p.nl
SUMMARY:R2P in Musicon
DESCRIPTION:READY TO PLAY  \n\n\n\nLIVE IN MUSICON \n\n\n\n\n\nR2P loves Musicon\nSIXPACK-specialTickets: 2\,50 euro entree  via onderstaande link:\nhttps://shop.simpleticket.eu/?eventid=Yw9gr6PxDe verkoop van de tickets is begonnen. Maximaal 24 personen per deel. Vol is vol.\nGrote zaal BANDSPart 1 zaal open 15.00uur 15.30-16.00 Axe’Us16.15-16.45 Where’s Phil17.00-17.30 Velvet Sway\nPart 2 18.00-20.00 uur 18.00-18.30 Gates Of The Fallen18.45-19.15 Rapture 19.30-20.00 New Ways\n \nSteenzaal SONGWRITERSPart 3 16.00-19.00 16.00-16.20 Ruben Wolbers16.30-16.50 Veronica Chmielarczyk17.00-17.20 Estelle Sittrop\n17.30-17.50 Tim van de Velde18.30-18.50 Marleen Klompenhouwer\n \n‘Afterburner’… 19.00 Soundground Pro info-avond (vooropleiding voor beroepsopleidingen) met enkele songwriters en producers uitleg en demonstraties \n \n\n \n\n\n#livemuziek
URL:https://r2p.nl/event/r2p-paardcafe-6-september-2020/
ATTACH;FMTTYPE=image/jpeg:https://r2p.nl/online/wp-content/uploads/2020/05/velvet-sway.jpg
END:VEVENT
BEGIN:VEVENT
DTSTART;TZID=Europe/Amsterdam:20200704T190000
DTEND;TZID=Europe/Amsterdam:20200704T230000
DTSTAMP:20260425T172101
CREATED:20200503T183221Z
LAST-MODIFIED:20200629T095923Z
UID:3530-1593889200-1593903600@r2p.nl
SUMMARY:High 5 special Edition
DESCRIPTION:READY TO PLAY  \n\n\n\nLIVE \n\n\n\n\n\nHigh 5 Special Edition\nSLECHTS 20 TICKETS \n2\,50 entree (excl. servicekosten) Onder de 18 krijg je 1 consumptie gratis \nTickets kun je hier bestellen \n  \nPART 1 bands: 19.00-20.45Gates of the Fallen\, Lifeline\, Velvet Sway \nPART 3 songwriters: 19.00-20.45Lindita\, Teddy\, Leopalooza (Leonie) \nPART 2 bands: 21.00-22.45Laat\, Rapture\, Silver LiningPART 4 songwriters: 21.00-22.45Julian\, June\, Norah \n  \nDeze avond is ingedeeld in 4 delen vanwege beperkt aantal tickets. \nBands in de grote zaal en songwriters in de raamzaal in 2 shifts per zaal: \nGROTE ZAAL \nPart 1 19.00  uur – 20.45 uur 3 bands \nPart 2 21.00 – 22.45 3 bands \nRAAMZAAL \nPart 3 19.00  uur – 20.45 uur 3 songwriters \nPart 4 21.00 – 22.45 3 songwriters \n \nVELVET SWAY \n \nLINDITA \n \nLIFELINE \n \nLeopalooza \n \nLAAT! \n \nNORAH \n \nRAPTURE \n \nJULIAN \n \nSILVER LINING \n \nTEDDY \n \nJUNE LISA \n\n\n\n\n\n\n\n\nhttps://www.facebook.com/pg/Readytoplaymusic/events/?ref=page_internal
URL:https://r2p.nl/event/high-5-special-edition/
LOCATION:MUSICON
ATTACH;FMTTYPE=image/jpeg:https://r2p.nl/online/wp-content/uploads/2020/05/IMG_5267-scaled.jpg
END:VEVENT
END:VCALENDAR